BEGIN:VCALENDAR
VERSION:2.0
PRODID:-//wp-events-plugin.com//7.2.3.1//EN
TZID:America/Los_Angeles
X-WR-TIMEZONE:America/Los_Angeles
BEGIN:VEVENT
UID:1002@allhallows.com
DTSTART;TZID=America/Los_Angeles;VALUE=DATE:20231217
DTEND;TZID=America/Los_Angeles;VALUE=DATE:20231218
DTSTAMP:20231103T183331Z
URL:https://allhallows.com/events/third-sunday-of-advent/
SUMMARY:Third Sunday of Advent
DESCRIPTION:Join us for Mass at our regular schedule.
ATTACH;FMTTYPE=image/jpeg:https://allhallows.com/wp-content/uploads/2021/1
 2/advent3.jpg
CATEGORIES:Mass
LOCATION:All Hallows Catholic Church\, 6602 La Jolla Scenic Dr. So.\, La Jo
 lla\, CA\, 92037\, United States
GEO:32.8347381;-117.24929509999998
X-APPLE-STRUCTURED-LOCATION;VALUE=URI;X-ADDRESS=6602 La Jolla Scenic Dr. So
 .\, La Jolla\, CA\, 92037\, United States;X-APPLE-RADIUS=100;X-TITLE=All H
 allows Catholic Church:geo:32.8347381,-117.24929509999998
END:VEVENT
BEGIN:VTIMEZONE
TZID:America/Los_Angeles
X-LIC-LOCATION:America/Los_Angeles
BEGIN:STANDARD
DTSTART:20231105T010000
TZOFFSETFROM:-0700
TZOFFSETTO:-0800
TZNAME:PST
END:STANDARD
END:VTIMEZONE
END:VCALENDAR