BEGIN:VCALENDAR
VERSION:2.0
PRODID:-//wp-events-plugin.com//7.2.3.1//EN
TZID:America/Los_Angeles
X-WR-TIMEZONE:America/Los_Angeles
BEGIN:VEVENT
UID:1130@allhallows.com
DTSTART;TZID=America/Los_Angeles:20250717T130000
DTEND;TZID=America/Los_Angeles:20250717T140000
DTSTAMP:20250625T221638Z
URL:https://allhallows.com/events/installation-mass-for-most-reverend-mich
 ael-pham/
SUMMARY:Installation Mass for Most Reverend Michael Pham
DESCRIPTION:July 17th at 1 pm is the Installation Mass for Most Reverend Mi
 chael Pham as the seventh Bishop of the Catholic Diocese of San Diego. You
  can watch it virtually at sdcatholic.org.\n
ATTACH;FMTTYPE=image/jpeg:https://allhallows.com/wp-content/uploads/2025/0
 6/Bishop.jpg
CATEGORIES:Diocesan
END:VEVENT
BEGIN:VTIMEZONE
TZID:America/Los_Angeles
X-LIC-LOCATION:America/Los_Angeles
BEGIN:DAYLIGHT
DTSTART:20250309T030000
TZOFFSETFROM:-0800
TZOFFSETTO:-0700
TZNAME:PDT
END:DAYLIGHT
END:VTIMEZONE
END:VCALENDAR