BEGIN:VCALENDAR
VERSION:2.0
PRODID:-//wp-events-plugin.com//7.2.3.1//EN
TZID:America/Los_Angeles
X-WR-TIMEZONE:America/Los_Angeles
BEGIN:VEVENT
UID:1022@allhallows.com
DTSTART;TZID=America/Los_Angeles:20260218T120000
DTEND;TZID=America/Los_Angeles:20260218T130000
DTSTAMP:20260122T210913Z
URL:https://allhallows.com/events/ash-wednesday-noon-mass/
SUMMARY:Ash Wednesday Noon Mass
DESCRIPTION:Join us on Feb. 18th for “Prayer\, Fasting and Almsgiving” 
 with MASS AND ASHES at Noon and 5:30 pm.\n\nAsh Wednesday derives its name
  from the practice of blessing ashes made from palm branches blessed on th
 e previous year's Palm Sunday\, and placing them on the heads of participa
 nts.\n\nAs Jesus fasted 40 days in the desert\, the Church traditionally f
 asts during Lent. A form of bodily prayer\, fasting and abstinence in unio
 n with other Christians reminds us of our utter dependence on and love for
  God. A gesture of repentance\, fasting is symbolic of a change of heart a
 s we turn away from sin to live in fidelity to the Gospel.\n\nLenten Regul
 ations Fasting: Ages 18-59 fast on Ash Wednesday and Good Friday\, limitin
 g themselves to one full meal and two smaller meals each day\, with no sna
 cking between meals.\n\nAbstinence: Catholics age 14 and older abstain fro
 m meat on Ash Wednesday\, Good Friday and all the Fridays of Lent.\n
ATTACH;FMTTYPE=image/jpeg:https://allhallows.com/wp-content/uploads/2016/0
 1/awe.jpg
CATEGORIES:Free,Holy Week,Lent,Parish,Prayer
LOCATION:All Hallows Catholic Church\, 6602 La Jolla Scenic Dr. So.\, La Jo
 lla\, CA\, 92037\, United States
GEO:32.8347381;-117.24929509999998
X-APPLE-STRUCTURED-LOCATION;VALUE=URI;X-ADDRESS=6602 La Jolla Scenic Dr. So
 .\, La Jolla\, CA\, 92037\, United States;X-APPLE-RADIUS=100;X-TITLE=All H
 allows Catholic Church:geo:32.8347381,-117.24929509999998
END:VEVENT
BEGIN:VTIMEZONE
TZID:America/Los_Angeles
X-LIC-LOCATION:America/Los_Angeles
BEGIN:STANDARD
DTSTART:20251102T010000
TZOFFSETFROM:-0700
TZOFFSETTO:-0800
TZNAME:PST
END:STANDARD
END:VTIMEZONE
END:VCALENDAR